BEGIN:VCALENDAR
VERSION:2.0
PRODID:-//The Space - ECPv6.14.2//NONSGML v1.0//EN
CALSCALE:GREGORIAN
METHOD:PUBLISH
X-ORIGINAL-URL:https://thespacemonsey.com
X-WR-CALDESC:Events for The Space
REFRESH-INTERVAL;VALUE=DURATION:PT1H
X-Robots-Tag:noindex
X-PUBLISHED-TTL:PT1H
BEGIN:VTIMEZONE
TZID:UTC
BEGIN:STANDARD
TZOFFSETFROM:+0000
TZOFFSETTO:+0000
TZNAME:UTC
DTSTART:20250101T000000
END:STANDARD
END:VTIMEZONE
BEGIN:VEVENT
DTSTART;TZID=UTC:20250728T093000
DTEND;TZID=UTC:20250728T103000
DTSTAMP:20260425T133450
CREATED:20250709T084021Z
LAST-MODIFIED:20250709T084021Z
UID:10003278-1753695000-1753698600@thespacemonsey.com
SUMMARY:Tisha B'av: Connecting To Our Core
DESCRIPTION:
URL:https://thespacemonsey.com/event/tisha-bav-connecting-to-our-core/
LOCATION:Mrs. Chani Juravel
CATEGORIES:Shiur
END:VEVENT
BEGIN:VEVENT
DTSTART;TZID=UTC:20250728T093000
DTEND;TZID=UTC:20250728T103000
DTSTAMP:20260425T133450
CREATED:20250724T010010Z
LAST-MODIFIED:20250724T010305Z
UID:10003284-1753695000-1753698600@thespacemonsey.com
SUMMARY:שיבנה בית המקדש:  Mourning A Loss We Never Knew
DESCRIPTION:
URL:https://thespacemonsey.com/event/%d7%a9%d7%99%d7%91%d7%a0%d7%94-%d7%91%d7%99%d7%aa-%d7%94%d7%9e%d7%a7%d7%93%d7%a9-mourning-a-loss-we-never-knew/
LOCATION:Mrs. Devora Koenig
CATEGORIES:Shiur
END:VEVENT
BEGIN:VEVENT
DTSTART;TZID=UTC:20250729T120000
DTEND;TZID=UTC:20250729T130000
DTSTAMP:20260425T133450
CREATED:20250709T084247Z
LAST-MODIFIED:20250709T084247Z
UID:10003280-1753790400-1753794000@thespacemonsey.com
SUMMARY:Halachos Relevant to the Nine Days & Tisha B'av
DESCRIPTION:
URL:https://thespacemonsey.com/event/halachos-relevant-to-the-nine-days-tisha-bav/
LOCATION:Rabbi Sender Haber
CATEGORIES:Shiur
END:VEVENT
BEGIN:VEVENT
DTSTART;TZID=UTC:20250730T100000
DTEND;TZID=UTC:20250730T110000
DTSTAMP:20260425T133450
CREATED:20250730T182108Z
LAST-MODIFIED:20250730T182108Z
UID:10003286-1753869600-1753873200@thespacemonsey.com
SUMMARY:Mourning The חורבן
DESCRIPTION:
URL:https://thespacemonsey.com/event/mourning-the-%d7%97%d7%95%d7%a8%d7%91%d7%9f/
LOCATION:Mrs. Mina Glick
CATEGORIES:Shiur
END:VEVENT
BEGIN:VEVENT
DTSTART;TZID=UTC:20250730T120000
DTEND;TZID=UTC:20250730T130000
DTSTAMP:20260425T133450
CREATED:20250709T084422Z
LAST-MODIFIED:20250730T175019Z
UID:10003281-1753876800-1753880400@thespacemonsey.com
SUMMARY:Megillas Eicha: Longing to Return
DESCRIPTION:
URL:https://thespacemonsey.com/event/halachos-relevant-to-the-nine-days-tisha-bav-2megillas-eicha-longing-to-return/
LOCATION:Aviva Orlian
CATEGORIES:Shiur
END:VEVENT
BEGIN:VEVENT
DTSTART;TZID=UTC:20250731T110000
DTEND;TZID=UTC:20250731T120000
DTSTAMP:20260425T133451
CREATED:20250713T204325Z
LAST-MODIFIED:20250731T153715Z
UID:10003282-1753959600-1753963200@thespacemonsey.com
SUMMARY:Narrow Places
DESCRIPTION:
URL:https://thespacemonsey.com/event/narrow-places/
LOCATION:Chani Gottlieb
CATEGORIES:Shiur
END:VEVENT
BEGIN:VEVENT
DTSTART;TZID=UTC:20250801T093000
DTEND;TZID=UTC:20250801T093000
DTSTAMP:20260425T133451
CREATED:20250508T030347Z
LAST-MODIFIED:20250508T030405Z
UID:10002824-1754040600-1754040600@thespacemonsey.com
SUMMARY:Parsha On The Go
DESCRIPTION:
URL:https://thespacemonsey.com/event/parsha-on-the-go-26/2025-08-01/
LOCATION:Mrs. Rochel Weinstein
CATEGORIES:Shiur
END:VEVENT
END:VCALENDAR