BEGIN:VCALENDAR
VERSION:2.0
PRODID:-//The Space - ECPv6.14.2//NONSGML v1.0//EN
CALSCALE:GREGORIAN
METHOD:PUBLISH
X-ORIGINAL-URL:https://thespacemonsey.com
X-WR-CALDESC:Events for The Space
REFRESH-INTERVAL;VALUE=DURATION:PT1H
X-Robots-Tag:noindex
X-PUBLISHED-TTL:PT1H
BEGIN:VTIMEZONE
TZID:UTC
BEGIN:STANDARD
TZOFFSETFROM:+0000
TZOFFSETTO:+0000
TZNAME:UTC
DTSTART:20250101T000000
END:STANDARD
END:VTIMEZONE
BEGIN:VEVENT
DTSTART;TZID=UTC:20250707T093000
DTEND;TZID=UTC:20250707T103000
DTSTAMP:20260425T202046
CREATED:20250424T042950Z
LAST-MODIFIED:20250709T084523Z
UID:10003214-1751880600-1751884200@thespacemonsey.com
SUMMARY:Building Better Bonds: Mastering Relationship Skills
DESCRIPTION:Want stronger\, healthier relationships – with your husband\, kids\, friends\, or even yourself? This workshop pulls wisdom from Torah\, real life\, and psychology to help you connect with more empathy\, clarity and confidence. Come with questions\, leave with tools (and maybe some aha moments).
URL:https://thespacemonsey.com/event/building-better-bonds-mastering-relationship-skills/2025-07-07/
LOCATION:Mrs. Chani Juravel
CATEGORIES:Shiur
END:VEVENT
BEGIN:VEVENT
DTSTART;TZID=UTC:20250709T101500
DTEND;TZID=UTC:20250709T111500
DTSTAMP:20260425T202047
CREATED:20250425T225844Z
LAST-MODIFIED:20250707T053641Z
UID:10003269-1752056100-1752059700@thespacemonsey.com
SUMMARY:Shalom Al Yisroel: How To Keep The Shechina In Your Home
DESCRIPTION:
URL:https://thespacemonsey.com/event/shalom-al-yisroel-how-to-keep-the-shechina-in-your-home/2025-07-09/
LOCATION:Rebbetzin Udy Wachsman
CATEGORIES:Shiur
END:VEVENT
BEGIN:VEVENT
DTSTART;TZID=UTC:20250709T110000
DTEND;TZID=UTC:20250709T120000
DTSTAMP:20260425T202047
CREATED:20250707T054455Z
LAST-MODIFIED:20250707T054526Z
UID:10003274-1752058800-1752062400@thespacemonsey.com
SUMMARY:עם כלביא Your LIONESS AWAKENS CAN YOU HEED THE CALL
DESCRIPTION:
URL:https://thespacemonsey.com/event/%d7%a2%d7%9d-%d7%9b%d7%9c%d7%91%d7%99%d7%90-your-lioness-awakens-can-you-heed-the-call/
LOCATION:Adina Altein
CATEGORIES:Shiur
END:VEVENT
BEGIN:VEVENT
DTSTART;TZID=UTC:20250711T093000
DTEND;TZID=UTC:20250711T093000
DTSTAMP:20260425T202047
CREATED:20250508T030347Z
LAST-MODIFIED:20250508T030405Z
UID:10002821-1752226200-1752226200@thespacemonsey.com
SUMMARY:Parsha On The Go
DESCRIPTION:
URL:https://thespacemonsey.com/event/parsha-on-the-go-26/2025-07-11/
LOCATION:Mrs. Rochel Weinstein
CATEGORIES:Shiur
END:VEVENT
END:VCALENDAR