BEGIN:VCALENDAR
VERSION:2.0
PRODID:-//The Space - ECPv6.14.2//NONSGML v1.0//EN
CALSCALE:GREGORIAN
METHOD:PUBLISH
X-ORIGINAL-URL:https://thespacemonsey.com
X-WR-CALDESC:Events for The Space
REFRESH-INTERVAL;VALUE=DURATION:PT1H
X-Robots-Tag:noindex
X-PUBLISHED-TTL:PT1H
BEGIN:VTIMEZONE
TZID:UTC
BEGIN:STANDARD
TZOFFSETFROM:+0000
TZOFFSETTO:+0000
TZNAME:UTC
DTSTART:20250101T000000
END:STANDARD
END:VTIMEZONE
BEGIN:VEVENT
DTSTART;TZID=UTC:20250616T093000
DTEND;TZID=UTC:20250616T103000
DTSTAMP:20260425T235136
CREATED:20250424T042950Z
LAST-MODIFIED:20250709T084523Z
UID:10002589-1750066200-1750069800@thespacemonsey.com
SUMMARY:Building Better Bonds: Mastering Relationship Skills
DESCRIPTION:Want stronger\, healthier relationships – with your husband\, kids\, friends\, or even yourself? This workshop pulls wisdom from Torah\, real life\, and psychology to help you connect with more empathy\, clarity and confidence. Come with questions\, leave with tools (and maybe some aha moments).
URL:https://thespacemonsey.com/event/building-better-bonds-mastering-relationship-skills/2025-06-16/
LOCATION:Mrs. Chani Juravel
CATEGORIES:Shiur
END:VEVENT
BEGIN:VEVENT
DTSTART;TZID=UTC:20250616T120000
DTEND;TZID=UTC:20250616T130000
DTSTAMP:20260425T235137
CREATED:20250608T081935Z
LAST-MODIFIED:20250614T003911Z
UID:10003013-1750075200-1750078800@thespacemonsey.com
SUMMARY:Parenting 101: What Every Parent Needs To Know
DESCRIPTION:You want a closer\, calmer relationship with your child\, so let’s discuss: \n\nCommunication tips that actually work\nTools to strengthen your parent-child relationship\nQ&A with licensed therapist who specializes in relationships
URL:https://thespacemonsey.com/event/parenting-101-what-every-parent-needs-to-know/
LOCATION:Robin Gutman
CATEGORIES:Shiur
END:VEVENT
BEGIN:VEVENT
DTSTART;TZID=UTC:20250618T101500
DTEND;TZID=UTC:20250618T111500
DTSTAMP:20260425T235137
CREATED:20250425T225844Z
LAST-MODIFIED:20250707T053641Z
UID:10002632-1750241700-1750245300@thespacemonsey.com
SUMMARY:Shalom Al Yisroel: How To Keep The Shechina In Your Home
DESCRIPTION:
URL:https://thespacemonsey.com/event/shalom-al-yisroel-how-to-keep-the-shechina-in-your-home/2025-06-18/
LOCATION:Rebbetzin Udy Wachsman
CATEGORIES:Shiur
END:VEVENT
BEGIN:VEVENT
DTSTART;TZID=UTC:20250620T093000
DTEND;TZID=UTC:20250620T093000
DTSTAMP:20260425T235137
CREATED:20250508T030347Z
LAST-MODIFIED:20250508T030405Z
UID:10002818-1750411800-1750411800@thespacemonsey.com
SUMMARY:Parsha On The Go
DESCRIPTION:
URL:https://thespacemonsey.com/event/parsha-on-the-go-26/2025-06-20/
LOCATION:Mrs. Rochel Weinstein
CATEGORIES:Shiur
END:VEVENT
END:VCALENDAR