BEGIN:VCALENDAR
VERSION:2.0
PRODID:-//The Space - ECPv6.14.2//NONSGML v1.0//EN
CALSCALE:GREGORIAN
METHOD:PUBLISH
X-ORIGINAL-URL:https://thespacemonsey.com
X-WR-CALDESC:Events for The Space
REFRESH-INTERVAL;VALUE=DURATION:PT1H
X-Robots-Tag:noindex
X-PUBLISHED-TTL:PT1H
BEGIN:VTIMEZONE
TZID:UTC
BEGIN:STANDARD
TZOFFSETFROM:+0000
TZOFFSETTO:+0000
TZNAME:UTC
DTSTART:20250101T000000
END:STANDARD
END:VTIMEZONE
BEGIN:VEVENT
DTSTART;TZID=UTC:20250505T093000
DTEND;TZID=UTC:20250505T103000
DTSTAMP:20260425T235134
CREATED:20250424T042950Z
LAST-MODIFIED:20250709T084523Z
UID:10002583-1746437400-1746441000@thespacemonsey.com
SUMMARY:Building Better Bonds: Mastering Relationship Skills
DESCRIPTION:Want stronger\, healthier relationships – with your husband\, kids\, friends\, or even yourself? This workshop pulls wisdom from Torah\, real life\, and psychology to help you connect with more empathy\, clarity and confidence. Come with questions\, leave with tools (and maybe some aha moments).
URL:https://thespacemonsey.com/event/building-better-bonds-mastering-relationship-skills/2025-05-05/
LOCATION:Mrs. Chani Juravel
CATEGORIES:Shiur
END:VEVENT
BEGIN:VEVENT
DTSTART;TZID=UTC:20250507T101500
DTEND;TZID=UTC:20250507T111500
DTSTAMP:20260425T235134
CREATED:20250425T225844Z
LAST-MODIFIED:20250707T053641Z
UID:10002626-1746612900-1746616500@thespacemonsey.com
SUMMARY:Shalom Al Yisroel: How To Keep The Shechina In Your Home
DESCRIPTION:
URL:https://thespacemonsey.com/event/shalom-al-yisroel-how-to-keep-the-shechina-in-your-home/2025-05-07/
LOCATION:Rebbetzin Udy Wachsman
CATEGORIES:Shiur
END:VEVENT
BEGIN:VEVENT
DTSTART;TZID=UTC:20250507T104500
DTEND;TZID=UTC:20250507T114500
DTSTAMP:20260425T235134
CREATED:20250424T045014Z
LAST-MODIFIED:20250424T045014Z
UID:10002617-1746614700-1746618300@thespacemonsey.com
SUMMARY:Stepping Stones to Sinai: Omer & Shavuos Insights
DESCRIPTION:5/7: Trusting the Journey \n5/14: Just Walk Beside Me \n5/21: Ko Somar L’beis Yaakov: Women and Torah \n5/28: Home Sweet Home
URL:https://thespacemonsey.com/event/stepping-stones-to-sinai-omer-shavuos-insights/2025-05-07/
LOCATION:Adina Altein
CATEGORIES:Shiur
END:VEVENT
BEGIN:VEVENT
DTSTART;TZID=UTC:20250509T093000
DTEND;TZID=UTC:20250509T093000
DTSTAMP:20260425T235134
CREATED:20250508T030347Z
LAST-MODIFIED:20250508T030405Z
UID:10002812-1746783000-1746783000@thespacemonsey.com
SUMMARY:Parsha On The Go
DESCRIPTION:
URL:https://thespacemonsey.com/event/parsha-on-the-go-26/2025-05-09/
LOCATION:Mrs. Rochel Weinstein
CATEGORIES:Shiur
END:VEVENT
END:VCALENDAR