BEGIN:VCALENDAR
VERSION:2.0
PRODID:-//The Space - ECPv6.14.2//NONSGML v1.0//EN
CALSCALE:GREGORIAN
METHOD:PUBLISH
X-WR-CALNAME:The Space
X-ORIGINAL-URL:https://thespacemonsey.com
X-WR-CALDESC:Events for The Space
REFRESH-INTERVAL;VALUE=DURATION:PT1H
X-Robots-Tag:noindex
X-PUBLISHED-TTL:PT1H
BEGIN:VTIMEZONE
TZID:UTC
BEGIN:STANDARD
TZOFFSETFROM:+0000
TZOFFSETTO:+0000
TZNAME:UTC
DTSTART:20250101T000000
END:STANDARD
END:VTIMEZONE
BEGIN:VEVENT
DTSTART;TZID=UTC:20250430T101500
DTEND;TZID=UTC:20250430T111500
DTSTAMP:20260425T201953
CREATED:20250425T225844Z
LAST-MODIFIED:20250707T053641Z
UID:10002625-1746008100-1746011700@thespacemonsey.com
SUMMARY:Shalom Al Yisroel: How To Keep The Shechina In Your Home
DESCRIPTION:
URL:https://thespacemonsey.com/event/shalom-al-yisroel-how-to-keep-the-shechina-in-your-home/2025-04-30/
LOCATION:Rebbetzin Udy Wachsman
CATEGORIES:Shiur
END:VEVENT
END:VCALENDAR