BEGIN:VCALENDAR
VERSION:2.0
PRODID:-//The Space - ECPv6.14.2//NONSGML v1.0//EN
CALSCALE:GREGORIAN
METHOD:PUBLISH
X-ORIGINAL-URL:https://thespacemonsey.com
X-WR-CALDESC:Events for The Space
REFRESH-INTERVAL;VALUE=DURATION:PT1H
X-Robots-Tag:noindex
X-PUBLISHED-TTL:PT1H
BEGIN:VTIMEZONE
TZID:UTC
BEGIN:STANDARD
TZOFFSETFROM:+0000
TZOFFSETTO:+0000
TZNAME:UTC
DTSTART:20250101T000000
END:STANDARD
END:VTIMEZONE
BEGIN:VEVENT
DTSTART;TZID=UTC:20250401T100000
DTEND;TZID=UTC:20250401T110000
DTSTAMP:20260425T234929
CREATED:20250330T195930Z
LAST-MODIFIED:20250330T195930Z
UID:10002500-1743501600-1743505200@thespacemonsey.com
SUMMARY:Pesach: Strengthen Your Faith In The Final Redemption
DESCRIPTION:
URL:https://thespacemonsey.com/event/strengthen-your-faith-in-the-final-redemption/
LOCATION:Mrs. Mina Glick
CATEGORIES:Shiur
END:VEVENT
BEGIN:VEVENT
DTSTART;TZID=UTC:20250402T134500
DTEND;TZID=UTC:20250402T143000
DTSTAMP:20260425T234929
CREATED:20250330T200610Z
LAST-MODIFIED:20250330T200610Z
UID:10002512-1743601500-1743604200@thespacemonsey.com
SUMMARY:Transcendence: Chaburah Learning "Living Aligned" by R' Baruch Gardner
DESCRIPTION:Break away from unproductive patterns and move towards a life of compassion and connection \nJoin a Chaburah with meaningful conversation; delving into the book “Living Aligned” by Rabbi Baruch Gardner hosted by Tzipora Nadoff and Chayalit Gottesman.\nCome connect\, reflect\, and learn.\nBabies are welcomed! (We are fully stocked with toys for 0-1 year olds.)
URL:https://thespacemonsey.com/event/transcendence-chaburah-learning-living-aligned-by-r-baruch-gardner-10/
LOCATION:Chayalit Gottesman & Tzipora Nadoff
CATEGORIES:Shiur
END:VEVENT
BEGIN:VEVENT
DTSTART;TZID=UTC:20250404T093000
DTEND;TZID=UTC:20250404T093000
DTSTAMP:20260425T234930
CREATED:20250330T200702Z
LAST-MODIFIED:20250330T200702Z
UID:10002513-1743759000-1743759000@thespacemonsey.com
SUMMARY:Parsha On The Go
DESCRIPTION:
URL:https://thespacemonsey.com/event/parsha-on-the-go-25/
LOCATION:Mrs. Rochel Weinstein
CATEGORIES:Shiur
END:VEVENT
BEGIN:VEVENT
DTSTART;TZID=UTC:20250430T101500
DTEND;TZID=UTC:20250430T111500
DTSTAMP:20260425T234930
CREATED:20250425T225844Z
LAST-MODIFIED:20250707T053641Z
UID:10002625-1746008100-1746011700@thespacemonsey.com
SUMMARY:Shalom Al Yisroel: How To Keep The Shechina In Your Home
DESCRIPTION:
URL:https://thespacemonsey.com/event/shalom-al-yisroel-how-to-keep-the-shechina-in-your-home/2025-04-30/
LOCATION:Rebbetzin Udy Wachsman
CATEGORIES:Shiur
END:VEVENT
END:VCALENDAR