BEGIN:VCALENDAR
VERSION:2.0
PRODID:-//The Space - ECPv6.14.2//NONSGML v1.0//EN
CALSCALE:GREGORIAN
METHOD:PUBLISH
X-ORIGINAL-URL:https://thespacemonsey.com
X-WR-CALDESC:Events for The Space
REFRESH-INTERVAL;VALUE=DURATION:PT1H
X-Robots-Tag:noindex
X-PUBLISHED-TTL:PT1H
BEGIN:VTIMEZONE
TZID:UTC
BEGIN:STANDARD
TZOFFSETFROM:+0000
TZOFFSETTO:+0000
TZNAME:UTC
DTSTART:20240101T000000
END:STANDARD
END:VTIMEZONE
BEGIN:VEVENT
DTSTART;TZID=UTC:20250226T200000
DTEND;TZID=UTC:20250226T210000
DTSTAMP:20260425T165910
CREATED:20250127T090955Z
LAST-MODIFIED:20250223T192003Z
UID:10002429-1740600000-1740603600@thespacemonsey.com
SUMMARY:Finding Healing Through Loss
DESCRIPTION:A journey of faith\, tradition and service: \nAt 26\, Elissa faced the devastating loss of her first baby. \nSeeking healing\, she found comfort in Jewish traditions on life\, death\, and afterlife\, which led her to the holy work of the Chevra Kadisha. \nThis journey inspired her to write a book and speak widely to offer tools\, inspiration and Torah wisdom to others navigating grief and looking for comfort in our mesorah. \n  \nElissa is the author of: From One Life to The Next Life\, and The Sacred Passage After Death \nBooks will be available for purchase
URL:https://thespacemonsey.com/event/finding-healing-through-loss/
LOCATION:Elissa Felder
CATEGORIES:Class
END:VEVENT
BEGIN:VEVENT
DTSTART;TZID=UTC:20250226T104500
DTEND;TZID=UTC:20250226T120000
DTSTAMP:20260425T165910
CREATED:20250223T184732Z
LAST-MODIFIED:20250224T183500Z
UID:10002465-1740566700-1740571200@thespacemonsey.com
SUMMARY:Tomchei Shabbos: The Soup + Bowl Kitchen
DESCRIPTION:SUGGESTED DONATION $18
URL:https://thespacemonsey.com/event/tomchei-shabbos-the-soup-bowl-kitchen/
LOCATION:Baila Frankel
CATEGORIES:Class
ATTACH;FMTTYPE=image/jpeg:/wp-content/uploads/2025/02/PHOTO-2025-02-22-21-05-48.jpg
END:VEVENT
BEGIN:VEVENT
DTSTART;TZID=UTC:20250225T123000
DTEND;TZID=UTC:20250225T133000
DTSTAMP:20260425T165910
CREATED:20250205T102952Z
LAST-MODIFIED:20250223T191700Z
UID:10002441-1740486600-1740490200@thespacemonsey.com
SUMMARY:Lunch & Learn: The Freedom & Comforts We Take For Granted
DESCRIPTION:Join us for an eye opening Lunch & Learn with Bryni Stiefel as she shares her powerful journey of “Living a Life of Less” as a Shlucha in Russia. \nCome for inspiration\, stay for the perspective – and enjoy a delicious lunch while you’re at it!
URL:https://thespacemonsey.com/event/the-freedom-comforts-we-take-for-granted/
LOCATION:Bryni Stiefel
CATEGORIES:Class
END:VEVENT
BEGIN:VEVENT
DTSTART;TZID=UTC:20250225T114500
DTEND;TZID=UTC:20250225T123000
DTSTAMP:20260425T165910
CREATED:20250223T184224Z
LAST-MODIFIED:20250223T191707Z
UID:10002464-1740483900-1740486600@thespacemonsey.com
SUMMARY:What's Brewing Coffee With Baila Frankel
DESCRIPTION:
URL:https://thespacemonsey.com/event/whats-brewing-coffee-with-baila-frankel-3/
LOCATION:Baila Frankel
CATEGORIES:Class
END:VEVENT
BEGIN:VEVENT
DTSTART;TZID=UTC:20250218T114500
DTEND;TZID=UTC:20250218T114500
DTSTAMP:20260425T165910
CREATED:20250216T224228Z
LAST-MODIFIED:20250216T224228Z
UID:10002458-1739879100-1739879100@thespacemonsey.com
SUMMARY:What's Brewing Coffee With Baila Frankel
DESCRIPTION:
URL:https://thespacemonsey.com/event/whats-brewing-coffee-with-baila-frankel-2/
LOCATION:Baila Frankel
CATEGORIES:Class
END:VEVENT
BEGIN:VEVENT
DTSTART;TZID=UTC:20250211T114500
DTEND;TZID=UTC:20250211T114500
DTSTAMP:20260425T165910
CREATED:20250209T200658Z
LAST-MODIFIED:20250211T024202Z
UID:10002446-1739274300-1739274300@thespacemonsey.com
SUMMARY:What's Brewing Coffee With
DESCRIPTION:
URL:https://thespacemonsey.com/event/whats-brewing-coffee-with-16/
LOCATION:Baila Frankel
CATEGORIES:Class
END:VEVENT
BEGIN:VEVENT
DTSTART;TZID=UTC:20250204T114500
DTEND;TZID=UTC:20250204T114500
DTSTAMP:20260425T165910
CREATED:20250204T071408Z
LAST-MODIFIED:20250204T071651Z
UID:10002439-1738669500-1738669500@thespacemonsey.com
SUMMARY:What's Brewing Coffee With
DESCRIPTION:
URL:https://thespacemonsey.com/event/whats-brewing-coffee-with-15/
LOCATION:Baila Frankel
CATEGORIES:Class
END:VEVENT
BEGIN:VEVENT
DTSTART;TZID=UTC:20250128T114500
DTEND;TZID=UTC:20250128T114500
DTSTAMP:20260425T165910
CREATED:20250126T062813Z
LAST-MODIFIED:20250128T203219Z
UID:10002427-1738064700-1738064700@thespacemonsey.com
SUMMARY:What's Brewing Coffee With
DESCRIPTION:
URL:https://thespacemonsey.com/event/whats-brewing-coffee-with-14/
LOCATION:Baila Frankel
CATEGORIES:Class
END:VEVENT
BEGIN:VEVENT
DTSTART;TZID=UTC:20250121T114500
DTEND;TZID=UTC:20250121T114500
DTSTAMP:20260425T165910
CREATED:20250119T235829Z
LAST-MODIFIED:20250120T014502Z
UID:10002403-1737459900-1737459900@thespacemonsey.com
SUMMARY:What's Brewing Coffee With
DESCRIPTION:
URL:https://thespacemonsey.com/event/whats-brewing-coffee-with-13/
LOCATION:Baila Frankel
CATEGORIES:Class
END:VEVENT
BEGIN:VEVENT
DTSTART;TZID=UTC:20250114T114500
DTEND;TZID=UTC:20250114T114500
DTSTAMP:20260425T165910
CREATED:20241028T073040Z
LAST-MODIFIED:20241121T095514Z
UID:10001914-1736855100-1736855100@thespacemonsey.com
SUMMARY:What's Brewing Coffee With
DESCRIPTION:
URL:https://thespacemonsey.com/event/whats-brewing-coffee-with-11/2025-01-14/
LOCATION:Baila Frankel
CATEGORIES:Class
END:VEVENT
BEGIN:VEVENT
DTSTART;TZID=UTC:20250107T114500
DTEND;TZID=UTC:20250107T114500
DTSTAMP:20260425T165910
CREATED:20250107T065551Z
LAST-MODIFIED:20250107T065553Z
UID:10001913-1736250300-1736250300@thespacemonsey.com
SUMMARY:What's Brewing Coffee With
DESCRIPTION:
URL:https://thespacemonsey.com/event/whats-brewing-coffee-with-11-4/
LOCATION:Baila Frankel
CATEGORIES:Class
END:VEVENT
BEGIN:VEVENT
DTSTART;TZID=UTC:20241231T114500
DTEND;TZID=UTC:20241231T114500
DTSTAMP:20260425T165910
CREATED:20241230T190250Z
LAST-MODIFIED:20241230T191419Z
UID:10002355-1735645500-1735645500@thespacemonsey.com
SUMMARY:What's Brewing... Coffee With Baila Frankel
DESCRIPTION:
URL:https://thespacemonsey.com/event/whats-brewing-coffee-with-baila-frankel/
LOCATION:Baila Frankel
CATEGORIES:Class
END:VEVENT
BEGIN:VEVENT
DTSTART;TZID=UTC:20241224T114500
DTEND;TZID=UTC:20241224T114500
DTSTAMP:20260425T165910
CREATED:20241223T044152Z
LAST-MODIFIED:20241223T044155Z
UID:10001912-1735040700-1735040700@thespacemonsey.com
SUMMARY:What's Brewing Coffee With
DESCRIPTION:
URL:https://thespacemonsey.com/event/whats-brewing-coffee-with-11-3/
LOCATION:Baila Frankel
CATEGORIES:Class
END:VEVENT
BEGIN:VEVENT
DTSTART;TZID=UTC:20241217T114500
DTEND;TZID=UTC:20241217T114500
DTSTAMP:20260425T165910
CREATED:20241028T073040Z
LAST-MODIFIED:20241121T095514Z
UID:10001911-1734435900-1734435900@thespacemonsey.com
SUMMARY:What's Brewing Coffee With
DESCRIPTION:
URL:https://thespacemonsey.com/event/whats-brewing-coffee-with-11/2024-12-17/
LOCATION:Baila Frankel
CATEGORIES:Class
END:VEVENT
BEGIN:VEVENT
DTSTART;TZID=UTC:20241210T114500
DTEND;TZID=UTC:20241210T114500
DTSTAMP:20260425T165910
CREATED:20241028T073040Z
LAST-MODIFIED:20241121T095514Z
UID:10001910-1733831100-1733831100@thespacemonsey.com
SUMMARY:What's Brewing Coffee With
DESCRIPTION:
URL:https://thespacemonsey.com/event/whats-brewing-coffee-with-11/2024-12-10/
LOCATION:Baila Frankel
CATEGORIES:Class
END:VEVENT
BEGIN:VEVENT
DTSTART;TZID=UTC:20241203T114500
DTEND;TZID=UTC:20241203T114500
DTSTAMP:20260425T165910
CREATED:20241111T075456Z
LAST-MODIFIED:20241201T191042Z
UID:10002320-1733226300-1733226300@thespacemonsey.com
SUMMARY:From Dior Paris to Monsey: The Story of Chanale Rabinovitz
DESCRIPTION:One woman’s magnificent journey: a journey filled with twists and turns. A journey that ultimately led her to Hashem.\nA journey that is inspiring and life changing.
URL:https://thespacemonsey.com/event/from-dior-paris-to-monsey-the-story-of-chanale-rabinovitz/
LOCATION:Chanale Rabinovitz
CATEGORIES:Class
END:VEVENT
BEGIN:VEVENT
DTSTART;TZID=UTC:20241203T114500
DTEND;TZID=UTC:20241203T114500
DTSTAMP:20260425T165910
CREATED:20241028T073040Z
LAST-MODIFIED:20241121T095514Z
UID:10001909-1733226300-1733226300@thespacemonsey.com
SUMMARY:What's Brewing Coffee With
DESCRIPTION:
URL:https://thespacemonsey.com/event/whats-brewing-coffee-with-11/2024-12-03/
LOCATION:Baila Frankel
CATEGORIES:Class
END:VEVENT
BEGIN:VEVENT
DTSTART;TZID=UTC:20241128T103000
DTEND;TZID=UTC:20241128T113000
DTSTAMP:20260425T165910
CREATED:20241028T074536Z
LAST-MODIFIED:20241101T045655Z
UID:10001937-1732789800-1732793400@thespacemonsey.com
SUMMARY:Avoidant Paths: Independence and Distance in the Torah
DESCRIPTION:Focus on avoidant attachment with Kayin and Yonah\, highlighting themes of self-reliance 
URL:https://thespacemonsey.com/event/avoidant-paths-independence-and-distance-in-the-torah/
CATEGORIES:Class
END:VEVENT
BEGIN:VEVENT
DTSTART;TZID=UTC:20241121T103000
DTEND;TZID=UTC:20241121T113000
DTSTAMP:20260425T165910
CREATED:20241028T074454Z
LAST-MODIFIED:20241101T045647Z
UID:10001936-1732185000-1732188600@thespacemonsey.com
SUMMARY:Anxious Hearts: Navigating Fear and Faith in Torah Stories
DESCRIPTION:Examining our Avos like Yaakov\, who experienced moments of uncertainty and struggle for reassurance
URL:https://thespacemonsey.com/event/anxious-hearts-navigating-fear-and-faith-in-torah-stories/
CATEGORIES:Class
END:VEVENT
BEGIN:VEVENT
DTSTART;TZID=UTC:20241119T114500
DTEND;TZID=UTC:20241119T114500
DTSTAMP:20260425T165910
CREATED:20241119T101156Z
LAST-MODIFIED:20241119T101200Z
UID:10001907-1732016700-1732016700@thespacemonsey.com
SUMMARY:What's Brewing Coffee With... Rachel Reissman Guest Speaker
DESCRIPTION:Nachas Redefined:\nHow to turn our yet unrealized  hopes and dreams for our kids into powerful tools for connection and growth! \nRachel Reissman\, an ICF-certified coach with 16 years of experience\, empowers clients to achieve lasting change through empathic support and a growth-focused approach.
URL:https://thespacemonsey.com/event/whats-brewing-coffee-with-11-2/
CATEGORIES:Class
END:VEVENT
BEGIN:VEVENT
DTSTART;TZID=UTC:20241114T103000
DTEND;TZID=UTC:20241114T113000
DTSTAMP:20260425T165910
CREATED:20241028T074358Z
LAST-MODIFIED:20241101T045704Z
UID:10001935-1731580200-1731583800@thespacemonsey.com
SUMMARY:Secure Bonds: Trust and Connection in the Lives of Our Avos
DESCRIPTION:Explore secure attachment through figures like Avraham and Sarah\, who built trusting and stable relationships
URL:https://thespacemonsey.com/event/secure-bonds-trust-and-connection-in-the-lives-of-our-ancestors/
CATEGORIES:Class
END:VEVENT
BEGIN:VEVENT
DTSTART;TZID=UTC:20241112T200000
DTEND;TZID=UTC:20241112T200000
DTSTAMP:20260425T165910
CREATED:20241111T075904Z
LAST-MODIFIED:20241111T080442Z
UID:10002321-1731441600-1731441600@thespacemonsey.com
SUMMARY:Kumzitz for Women & Girls: Yartzeit of רחל אמינו
DESCRIPTION:
URL:https://thespacemonsey.com/event/kumzitz-for-women-girls-yartzeit-of-%d7%a8%d7%97%d7%9c-%d7%90%d7%9e%d7%99%d7%a0%d7%95/
LOCATION:Baila Frankel
CATEGORIES:Class
END:VEVENT
BEGIN:VEVENT
DTSTART;TZID=UTC:20241112T114500
DTEND;TZID=UTC:20241112T114500
DTSTAMP:20260425T165910
CREATED:20241028T073040Z
LAST-MODIFIED:20241121T095514Z
UID:10001906-1731411900-1731411900@thespacemonsey.com
SUMMARY:What's Brewing Coffee With
DESCRIPTION:
URL:https://thespacemonsey.com/event/whats-brewing-coffee-with-11/2024-11-12/
LOCATION:Baila Frankel
CATEGORIES:Class
END:VEVENT
BEGIN:VEVENT
DTSTART;TZID=UTC:20241107T103000
DTEND;TZID=UTC:20241107T113000
DTSTAMP:20260425T165910
CREATED:20241030T074255Z
LAST-MODIFIED:20241101T045606Z
UID:10002294-1730975400-1730979000@thespacemonsey.com
SUMMARY:Soul Connections: Exploring Devekus through the Lens of Torah
DESCRIPTION:Devekus (closeness to Hashem): offering a deep dive into how these themes are reflected in the Torah 
URL:https://thespacemonsey.com/event/soul-connections-exploring-devekut-and-attachment-through-the-lens-of-torah/
CATEGORIES:Class
END:VEVENT
BEGIN:VEVENT
DTSTART;TZID=UTC:20241105T114500
DTEND;TZID=UTC:20241105T114500
DTSTAMP:20260425T165910
CREATED:20241028T073040Z
LAST-MODIFIED:20241121T095514Z
UID:10001905-1730807100-1730807100@thespacemonsey.com
SUMMARY:What's Brewing Coffee With
DESCRIPTION:
URL:https://thespacemonsey.com/event/whats-brewing-coffee-with-11/2024-11-05/
LOCATION:Baila Frankel
CATEGORIES:Class
END:VEVENT
BEGIN:VEVENT
DTSTART;TZID=UTC:20240917T120000
DTEND;TZID=UTC:20240917T130000
DTSTAMP:20260425T165910
CREATED:20240904T054849Z
LAST-MODIFIED:20240904T054849Z
UID:10001869-1726574400-1726578000@thespacemonsey.com
SUMMARY:Reflections on the New Year: Jewish History and Jewish Memory
DESCRIPTION:
URL:https://thespacemonsey.com/event/reflections-on-the-new-year-jewish-history-and-jewish-memory/
CATEGORIES:Class
END:VEVENT
BEGIN:VEVENT
DTSTART;TZID=UTC:20240911T123000
DTEND;TZID=UTC:20240911T133000
DTSTAMP:20260425T165910
CREATED:20240904T054352Z
LAST-MODIFIED:20240904T054352Z
UID:10001867-1726057800-1726061400@thespacemonsey.com
SUMMARY:The Joy of Ten
DESCRIPTION:Preparing for a New You; A New Year
URL:https://thespacemonsey.com/event/the-joy-of-ten/
CATEGORIES:Class
END:VEVENT
BEGIN:VEVENT
DTSTART;TZID=UTC:20240808T103000
DTEND;TZID=UTC:20240808T113000
DTSTAMP:20260425T165910
CREATED:20240705T002211Z
LAST-MODIFIED:20240705T014311Z
UID:10001822-1723113000-1723116600@thespacemonsey.com
SUMMARY:Chodesh Av: A Father's Love
DESCRIPTION:
URL:https://thespacemonsey.com/event/chodesh-av-a-fathers-love/
CATEGORIES:Class
END:VEVENT
BEGIN:VEVENT
DTSTART;TZID=UTC:20240807T103000
DTEND;TZID=UTC:20240807T133000
DTSTAMP:20260425T165910
CREATED:20240704T072141Z
LAST-MODIFIED:20240705T014404Z
UID:10001813-1723026600-1723037400@thespacemonsey.com
SUMMARY:Thinking of Our Sisters In Eretz Yisroel
DESCRIPTION:Mrs. Sheila Schwebel shares her first hand experiences.\nHands on project to show our support\nRivkie Feiner shares ways we can be helpful and supportive\nOpportunity to purchase items from women in Israel\nEnjoy Shuk delectables
URL:https://thespacemonsey.com/event/israel-day/
CATEGORIES:Class
END:VEVENT
BEGIN:VEVENT
DTSTART;TZID=UTC:20240806T103000
DTEND;TZID=UTC:20240806T103000
DTSTAMP:20260425T165910
CREATED:20240704T071757Z
LAST-MODIFIED:20240708T022748Z
UID:10001811-1722940200-1722940200@thespacemonsey.com
SUMMARY:A Wholesome Approach to Parenting From Toddlers to Adulthood
DESCRIPTION:
URL:https://thespacemonsey.com/event/a-wholesome-approach-to-parenting-from-toddlers-to-adulthood-2/
CATEGORIES:Class
END:VEVENT
END:VCALENDAR