BEGIN:VCALENDAR
VERSION:2.0
PRODID:-//The Space - ECPv6.14.2//NONSGML v1.0//EN
CALSCALE:GREGORIAN
METHOD:PUBLISH
X-WR-CALNAME:The Space
X-ORIGINAL-URL:https://thespacemonsey.com
X-WR-CALDESC:Events for The Space
REFRESH-INTERVAL;VALUE=DURATION:PT1H
X-Robots-Tag:noindex
X-PUBLISHED-TTL:PT1H
BEGIN:VTIMEZONE
TZID:America/New_York
BEGIN:DAYLIGHT
TZOFFSETFROM:-0500
TZOFFSETTO:-0400
TZNAME:EDT
DTSTART:20260308T070000
END:DAYLIGHT
BEGIN:STANDARD
TZOFFSETFROM:-0400
TZOFFSETTO:-0500
TZNAME:EST
DTSTART:20261101T060000
END:STANDARD
END:VTIMEZONE
BEGIN:VTIMEZONE
TZID:UTC
BEGIN:STANDARD
TZOFFSETFROM:+0000
TZOFFSETTO:+0000
TZNAME:UTC
DTSTART:20260101T000000
END:STANDARD
END:VTIMEZONE
BEGIN:VEVENT
DTSTART;TZID=America/New_York:20260421T103000
DTEND;TZID=America/New_York:20260421T113000
DTSTAMP:20260421T114358
CREATED:20260410T163635Z
LAST-MODIFIED:20260410T163635Z
UID:10006219-1776767400-1776771000@thespacemonsey.com
SUMMARY:Opening up Our Channels of Abundance
DESCRIPTION:Rachel Shaool is a renowned workshop leader who travels across the U.S.\, helping people unlock the power of their own minds. Known for her clear\, transformative approach\, she guides individuals to shift their perspective\, gain clarity\, and experience life on a deeper\, more empowered level.
URL:https://thespacemonsey.com/event/opening-up-our-channels-of-abundance/
LOCATION:The Space\, 526 Route 306\, Monsey\, NY\, 10952\, United States
ATTACH;FMTTYPE=image/jpeg:/wp-content/uploads/2026/04/WhatsApp-Image-2026-04-10-at-12.30.18.jpeg
END:VEVENT
BEGIN:VEVENT
DTSTART;TZID=UTC:20260421T114500
DTEND;TZID=UTC:20260421T124500
DTSTAMP:20260421T114358
CREATED:20250930T111344Z
LAST-MODIFIED:20251019T112720Z
UID:10003589-1776771900-1776775500@thespacemonsey.com
SUMMARY:Coffee with Baila
DESCRIPTION:Join Baila Frenkel for a warm\, welcoming weekly group that brings in a variety of speakers and thought-provoking topics. With her delightful world experience and engaging personality\, Baila keeps every session both entertaining and meaningful.
URL:https://thespacemonsey.com/event/coffee-with-baila-2/2026-04-21/
LOCATION:The Space\, 526 Route 306\, Monsey\, NY\, 10952\, United States
ATTACH;FMTTYPE=image/jpeg:/wp-content/uploads/2025/09/WhatsApp-Image-2025-10-16-at-17.38.45.jpeg
END:VEVENT
END:VCALENDAR